BEGIN:VCALENDAR
VERSION:2.0
PRODID:-//APHIN e.V. - ECPv6.0.1.1//NONSGML v1.0//EN
CALSCALE:GREGORIAN
METHOD:PUBLISH
X-ORIGINAL-URL:https://2020.aphin.de
X-WR-CALDESC:Veranstaltungen für APHIN e.V.
REFRESH-INTERVAL;VALUE=DURATION:PT1H
X-Robots-Tag:noindex
X-PUBLISHED-TTL:PT1H
BEGIN:VTIMEZONE
TZID:UTC
BEGIN:STANDARD
TZOFFSETFROM:+0000
TZOFFSETTO:+0000
TZNAME:UTC
DTSTART:20240101T000000
END:STANDARD
END:VTIMEZONE
BEGIN:VEVENT
DTSTART;TZID=UTC:20240202T180000
DTEND;TZID=UTC:20240202T210000
DTSTAMP:20260423T144705
CREATED:20231028T100735Z
LAST-MODIFIED:20231028T100735Z
UID:1417-1706896800-1706907600@2020.aphin.de
SUMMARY:Arbeitsgruppe \,\,Philosophie und Technik“
DESCRIPTION:Zielsetzung des Arbeitskreises ist es\, sich mit den technikphilosophischen Klassikern auseinandersetzen.\nEs geht dabei um die zentrale Frage der Technikphilosophie: Was ist Technik?  \nWie auch bei unseren bisherigen Treffen werden wir dabei auch stets die Gegenwart im Blick haben und fragen\,\nwelche Antworten uns die Klassiker auf die Herausforderungen gegenwärtiger Techniken geben können\,\nbeispielsweise auf diejenigen der Digitalisierung\, der künstlichen Intelligenz und der autonomen Fahrzeuge.
URL:https://2020.aphin.de/event/arbeitsgruppe-philosophie-und-technik-4
LOCATION:Kueser Akademie für Europäische Geistesgeschichte in Bernkastel-Kues\, Gestade\, 6\, Bernkastel\, 54470\, Deutschland
END:VEVENT
END:VCALENDAR