BEGIN:VCALENDAR
VERSION:2.0
PRODID:-//APHIN e.V. - ECPv6.0.1.1//NONSGML v1.0//EN
CALSCALE:GREGORIAN
METHOD:PUBLISH
X-ORIGINAL-URL:https://2020.aphin.de
X-WR-CALDESC:Veranstaltungen für APHIN e.V.
REFRESH-INTERVAL;VALUE=DURATION:PT1H
X-Robots-Tag:noindex
X-PUBLISHED-TTL:PT1H
BEGIN:VTIMEZONE
TZID:UTC
BEGIN:STANDARD
TZOFFSETFROM:+0000
TZOFFSETTO:+0000
TZNAME:UTC
DTSTART:20260101T000000
END:STANDARD
END:VTIMEZONE
BEGIN:VEVENT
DTSTART;VALUE=DATE:20260612
DTEND;VALUE=DATE:20260614
DTSTAMP:20260425T104013
CREATED:20250106T144448Z
LAST-MODIFIED:20260125T134201Z
UID:1693-1781222400-1781395199@2020.aphin.de
SUMMARY:Philosophisch-Historischer Stadtrundgang Hannover
DESCRIPTION:Programm (Dieser Link funktioniert nicht in der Vorschau)
URL:https://2020.aphin.de/event/philosophisch-historischer-stadtrundgang-hannover
LOCATION:Hannover\, Hannover
END:VEVENT
END:VCALENDAR